BEGIN:VCALENDAR
VERSION:2.0
PRODID:-//175.45.125.149//NONSGML kigkonsult.se iCalcreator 2.20//
CALSCALE:GREGORIAN
METHOD:PUBLISH
X-WR-CALNAME:ACDC Auburn
X-WR-CALDESC:Auburn Community Development Committee
X-FROM-URL:http://acdc.auburn.sa.au
X-WR-TIMEZONE:Australia/Adelaide
BEGIN:VTIMEZONE
TZID:Australia/Adelaide
X-LIC-LOCATION:Australia/Adelaide
BEGIN:STANDARD
DTSTART:20200405T030000
TZOFFSETFROM:+1030
TZOFFSETTO:+0930
TZNAME:ACST
END:STANDARD
BEGIN:DAYLIGHT
DTSTART:20191006T020000
TZOFFSETFROM:+0930
TZOFFSETTO:+1030
TZNAME:ACDT
END:DAYLIGHT
END:VTIMEZONE
BEGIN:VEVENT
UID:ai1ec-289@acdc.auburn.sa.au
DTSTAMP:20200227T180341Z
CATEGORIES;LANGUAGE=en-AU:Community Assoc. Meetings
CONTACT:
DESCRIPTION:
DTSTART;TZID=Australia/Adelaide:20180702T100000
DTEND;TZID=Australia/Adelaide:20180702T110000
LOCATION:Old Croquet clubroom Auburn Recreation Park @ Saddleworth Rd
RRULE:FREQ=WEEKLY;BYDAY=MO;WKST=MO
SEQUENCE:0
SUMMARY:Valleys Art Group Meeting
URL:http://acdc.auburn.sa.au/event/valleys-art-group-meeting/
X-COST-TYPE:free
END:VEVENT
END:VCALENDAR
